Workbook

Sheet Forecast
B2: Projected Growth and Sales
B4: Category | C4: Actual Q4 Last Year | D4: Q1 Next Year | E4: Q2 Next Year | F4: Q3 Next Year | G4: Q4 Next Year | H4: Projected Next Year
B5: Pool Construction | C5: 325000 | D5: =C5*(1+'Growth Factors'!$C$3)*'Growth Factors'!$C6 -> 341761.88 | E5: =D5*(1+'Growth Factors'!$C$3)*'Growth Factors'!$C6 -> 359388.24 | F5: =E5*(1+'Growth Factors'!$C$3)*'Growth Factors'!$C6 -> 377923.69 | G5: =F5*(1+'Growth Factors'!$C$3)*'Growth Factors'!$C6 -> 397415.11 | H5: =SUM(D5:G5) -> 1476488.9
B6: Hot Tub Installation | C6: 275000 | D6: =C6*(1+'Growth Factors'!$C$3)*'Growth Factors'!$C7 -> 275412.5 | E6: =D6*(1+'Growth Factors'!$C$3)*'Growth Factors'!$C7 -> 275825.62 | F6: =E6*(1+'Growth Factors'!$C$3)*'Growth Factors'!$C7 -> 276239.36 | G6: =F6*(1+'Growth Factors'!$C$3)*'Growth Factors'!$C7 -> 276653.72 | H6: =SUM(D6:G6) -> 1104131.2
B7: Maintenance Contracts | C7: 200000 | D7: =C7*(1+'Growth Factors'!$C$3)*'Growth Factors'!$C8 -> 170255 | E7: =D7*(1+'Growth Factors'!$C$3)*'Growth Factors'!$C8 -> 144933.83 | F7: =E7*(1+'Growth Factors'!$C$3)*'Growth Factors'!$C8 -> 123378.54 | G7: =F7*(1+'Growth Factors'!$C$3)*'Growth Factors'!$C8 -> 105029.07 | H7: =SUM(D7:G7) -> 543596.44
G8: Target Sales | H8: =SUM(H5:H7) -> 3124216.5
B11: Current Growth Rate
B12: ='Growth Factors'!$C$3 -> 0.0015
D16: Projected Sales Next Year by Category
E17: Pool | F17: Hot Tub | G17: Contracts
C18: General Growth Rate | E18: =H5 -> 1476488.9 | F18: =H6 -> 1104131.2 | G18: =H7 -> 543596.44
D19: 0.0025
D20: 0.005

Sheet Growth Factors
B3: General Quarterly Growth Rate | C3: 0.0015
B5: Growth Adjustment Factor
B6: Pool Construction | C6: 1.05
B7: Hot Tub Installation | C7: 1
B8: Maintenance Contracts | C8: 0.85

Sheet Crew1
A2: Pool Construction Crew 1
A4: Employee | B4: Rate | C4: Required/ Permissible Hours | D4: Hours | E4: Total
A5: Employee 1 | B5: 21.5 | C5: Between 35 and 45 | D5: 0 | E5: =B5*D5 -> 0
A6: Employee 2 | B6: 23 | C6: Between 38 and 50 | D6: 0 | E6: =B6*D6 -> 0
A7: Employee 3 | B7: 20 | C7: Between 40 and 48 | D7: 0 | E7: =B7*D7 -> 0
A8: Employee 4 | B8: 19.5 | C8: Between 32 and 40 | D8: 32 | E8: =B8*D8 -> 624
D9: =SUM(D5:D8) -> 32 | E9: =SUM(E5:E8) -> 624
